BEGIN:VCALENDAR
VERSION:2.0
PRODID:-//Coopers Lane PTA - ECPv6.15.17.1//NONSGML v1.0//EN
CALSCALE:GREGORIAN
METHOD:PUBLISH
X-WR-CALNAME:Coopers Lane PTA
X-ORIGINAL-URL:https://cooperslanepta.co.uk
X-WR-CALDESC:Events for Coopers Lane PTA
REFRESH-INTERVAL;VALUE=DURATION:PT1H
X-Robots-Tag:noindex
X-PUBLISHED-TTL:PT1H
BEGIN:VTIMEZONE
TZID:Europe/London
BEGIN:DAYLIGHT
TZOFFSETFROM:+0000
TZOFFSETTO:+0100
TZNAME:BST
DTSTART:20240331T010000
END:DAYLIGHT
BEGIN:STANDARD
TZOFFSETFROM:+0100
TZOFFSETTO:+0000
TZNAME:GMT
DTSTART:20241027T010000
END:STANDARD
BEGIN:DAYLIGHT
TZOFFSETFROM:+0000
TZOFFSETTO:+0100
TZNAME:BST
DTSTART:20250330T010000
END:DAYLIGHT
BEGIN:STANDARD
TZOFFSETFROM:+0100
TZOFFSETTO:+0000
TZNAME:GMT
DTSTART:20251026T010000
END:STANDARD
BEGIN:DAYLIGHT
TZOFFSETFROM:+0000
TZOFFSETTO:+0100
TZNAME:BST
DTSTART:20260329T010000
END:DAYLIGHT
BEGIN:STANDARD
TZOFFSETFROM:+0100
TZOFFSETTO:+0000
TZNAME:GMT
DTSTART:20261025T010000
END:STANDARD
END:VTIMEZONE
BEGIN:VEVENT
DTSTART;TZID=Europe/London:20250606T080000
DTEND;TZID=Europe/London:20250606T085000
DTSTAMP:20260423T110013
CREATED:20250521T105510Z
LAST-MODIFIED:20250521T105539Z
UID:1017-1749196800-1749199800@cooperslanepta.co.uk
SUMMARY:KS2 Sports Day Drinks
DESCRIPTION:Heading to Sports Day on Friday?\nWe will be selling tea\, coffee and water to take away outside school from 8.30am on Friday 6th\, for parents heading to the park.\nWe’ll have paper cups with lids\, or bring your own if you can to save on waste.\nPlease stop by to grab a drink and support the school.
URL:https://cooperslanepta.co.uk/event/ks2-sport-day-drinks/
LOCATION:Coopers Lane Primary School
END:VEVENT
BEGIN:VEVENT
DTSTART;TZID=Europe/London:20250627T151500
DTEND;TZID=Europe/London:20250627T181500
DTSTAMP:20260423T110013
CREATED:20250521T101036Z
LAST-MODIFIED:20250521T101036Z
UID:1002-1751037300-1751048100@cooperslanepta.co.uk
SUMMARY:Friday Night Summer Sizzler
DESCRIPTION:Our annual Summer Fair has a new home this year – after school on Fri 27 June from 3.15pm.  There will be food stalls\, a licensed bar\, inflatables and 50p games\, preloved uniform super sale and lots more !  Come along and enjoy an after school treat !  Adults £1 and kids under 16 are free. More details to follow.
URL:https://cooperslanepta.co.uk/event/friday-night-summer-sizzler/
LOCATION:Coopers Lane Primary School
END:VEVENT
END:VCALENDAR