BEGIN:VCALENDAR
VERSION:2.0
PRODID:-//Coopers Lane PTA - ECPv6.15.17.1//NONSGML v1.0//EN
CALSCALE:GREGORIAN
METHOD:PUBLISH
X-WR-CALNAME:Coopers Lane PTA
X-ORIGINAL-URL:https://cooperslanepta.co.uk
X-WR-CALDESC:Events for Coopers Lane PTA
REFRESH-INTERVAL;VALUE=DURATION:PT1H
X-Robots-Tag:noindex
X-PUBLISHED-TTL:PT1H
BEGIN:VTIMEZONE
TZID:Europe/London
BEGIN:DAYLIGHT
TZOFFSETFROM:+0000
TZOFFSETTO:+0100
TZNAME:BST
DTSTART:20240331T010000
END:DAYLIGHT
BEGIN:STANDARD
TZOFFSETFROM:+0100
TZOFFSETTO:+0000
TZNAME:GMT
DTSTART:20241027T010000
END:STANDARD
BEGIN:DAYLIGHT
TZOFFSETFROM:+0000
TZOFFSETTO:+0100
TZNAME:BST
DTSTART:20250330T010000
END:DAYLIGHT
BEGIN:STANDARD
TZOFFSETFROM:+0100
TZOFFSETTO:+0000
TZNAME:GMT
DTSTART:20251026T010000
END:STANDARD
BEGIN:DAYLIGHT
TZOFFSETFROM:+0000
TZOFFSETTO:+0100
TZNAME:BST
DTSTART:20260329T010000
END:DAYLIGHT
BEGIN:STANDARD
TZOFFSETFROM:+0100
TZOFFSETTO:+0000
TZNAME:GMT
DTSTART:20261025T010000
END:STANDARD
END:VTIMEZONE
BEGIN:VEVENT
DTSTART;TZID=Europe/London:20250925T190000
DTEND;TZID=Europe/London:20250925T200000
DTSTAMP:20260419T133314
CREATED:20250923T091132Z
LAST-MODIFIED:20250923T091132Z
UID:1040-1758826800-1758830400@cooperslanepta.co.uk
SUMMARY:Welcome Meeting
DESCRIPTION:Please join us for our first meeting of the year\, where we will welcome new parents and discuss our fundraising plans for the year. 7pm on Thursday 25th\, in the school gym\, drinks and snacks will be provided.
URL:https://cooperslanepta.co.uk/event/welcome-meeting/
LOCATION:Coopers Lane Primary School
END:VEVENT
END:VCALENDAR